Workbook

Sheet １月
A1: 令和8年1月 | E1: 子牛売買価格速報 | I1: 単位：頭、円
I2: （税込）
A3: 開催日 | B3: 曜日 | C3: 市場名 | D3: め す | F3: 去 勢 | H3: 合 計 | J3: 前回比
D4: 頭数 | E4: 平均 | F4: 頭数 | G4: 平均 | H4: 頭数 | I4: 平均 | L4: 頭数 | M4: 平均 | N4: 前回比
A5: 1日 | B5: 46023 | C5: 元旦
A6: 2日 | B6: 46024
A7: 3日 | B7: 46025
A8: 4日 | B8: 46026
A9: 5日 | B9: 46027 | C9: 与論（400） | D9: 156 | E9: =614731*1.1 -> 676204.1 | F9: 241 | G9: =704556*1.1 -> 775011.6 | H9: 397 | I9: =669259*1.1 -> 736184.9 | J9: =94389*1.1 -> 103827.9
A10: 6日 | B10: 46028 | C10: 沖永良部（240） | D10: 101 | E10: =616495*1.1 -> 678144.5 | F10: 141 | G10: =716872*1.1 -> 788559.2 | H10: 242 | I10: =674979*1.1 -> 742476.9 | J10: =91824*1.1 -> 101006.4
A11: 7日 | B11: 46029 | C11: 沖永良部（160） | D11: 59 | E11: =603831*1.1 -> 664214.1 | F11: 80 | G11: =717413*1.1 -> 789154.3 | H11: 139 | I11: =669201*1.1 -> 736121.1 | J11: =86046*1.1 -> 94650.6
A12: 8日 | B12: 46030 | C12: 徳之島（400） | D12: 178 | E12: =619084*1.1 -> 680992.4 | F12: 250 | G12: =710660*1.1 -> 781726 | H12: 428 | I12: =672575*1.1 -> 739832.5 | J12: =27500*1.1 -> 30250
A13: 9日 | B13: 46031 | C13: 徳之島（250） | D13: 141 | E13: =624142*1.1 -> 686556.2 | F13: 131 | G13: =719397*1.1 -> 791336.7 | H13: 272 | I13: =670018*1.1 -> 737019.8 | J13: =24944*1.1 -> 27438.4
A14: 10日 | B14: 46032 | C14: 奄美大島（190） | D14: 77 | E14: =597792*1.1 -> 657571.2 | F14: 94 | G14: =708426*1.1 -> 779268.6 | H14: 171 | I14: =658608*1.1 -> 724468.8 | J14: =101271*1.1 -> 111398.1
A15: 11日 | B15: 46033 | C15: 喜界（200） | D15: 85 | E15: =598506*1.1 -> 658356.6 | F15: 87 | G15: =716736*1.1 -> 788409.6 | H15: 172 | I15: =658308*1.1 -> 724138.8 | J15: =109629*1.1 -> 120591.9 | K15: あまみ計 | L15: 1821 | M15: =668873*1.1 -> 735760.3 | N15: =95487*1.1 -> 105035.7
A16: 12日 | B16: 46034 | C16: 成人の日
A17: 13日 | B17: 46035
A18: 14日 | B18: 46036 | C18: 薩摩（280） | D18: 148 | E18: =638628*1.1 -> 702490.8 | F18: 140 | G18: =726193*1.1 -> 798812.3 | H18: 288 | I18: =681194*1.1 -> 749313.4 | J18: =-8264*1.1 -> -9090.4
A19: 15日 | B19: 46037 | C19: 薩摩（280） | D19: 101 | E19: =637663*1.1 -> 701429.3 | F19: 163 | G19: =724190*1.1 -> 796609 | H19: 264 | I19: =691087*1.1 -> 760195.7 | J19: =1629*1.1 -> 1791.9
A20: 16日 | B20: 46038 | C20: 姶良（280） | D20: 82 | E20: =638622*1.1 -> 702484.2 | F20: 169 | G20: =755982*1.1 -> 831580.2 | H20: 251 | I20: =717641*1.1 -> 789405.1 | J20: =48421*1.1 -> 53263.1
A21: 17日 | B21: 46039 | C21: 姶良（280） | D21: 229 | E21: =649092*1.1 -> 714001.2 | F21: 270 | G21: =756359*1.1 -> 831994.9 | H21: 499 | I21: =707132*1.1 -> 777845.2 | J21: =39090*1.1 -> 42999
A22: 18日 | B22: 46040
A23: 19日 | B23: 46041 | C23: 種子島（420） | D23: 183 | E23: =638694*1.1 -> 702563.4 | F23: 234 | G23: =758171*1.1 -> 833988.1 | H23: 417 | I23: =705739*1.1 -> 776312.9 | J23: =33124*1.1 -> 36436.4
A24: 20日 | B24: 46042 | C24: 鹿中央（350） | D24: 135 | E24: =658904*1.1 -> 724794.4 | F24: 199 | G24: =762377*1.1 -> 838614.7 | H24: 334 | I24: =720554*1.1 -> 792609.4 | J24: =58096*1.1 -> 63905.6
A25: 21日 | B25: 46043 | C25: 肝属（450） | D25: 167 | E25: =643479*1.1 -> 707826.9 | F25: 217 | G25: =737645*1.1 -> 811409.5 | H25: 384 | I25: =696693*1.1 -> 766362.3 | J25: =-2124*1.1 -> -2336.4
A26: 22日 | B26: 46044 | C26: 肝属（450） | D26: 189 | E26: =644894*1.1 -> 709383.4 | F26: 230 | G26: =750478*1.1 -> 825525.8 | H26: 419 | I26: =702852*1.1 -> 773137.2 | J26: =4035*1.1 -> 4438.5
A27: 23日 | B27: 46045 | C27: 肝属（400） | D27: 196 | E27: =638990*1.1 -> 702889 | F27: 180 | G27: =747106*1.1 -> 821816.6 | H27: 376 | I27: =690747*1.1 -> 759821.7 | J27: =-8070*1.1 -> -8877 | K27: きもつき計 | L27: =SUM(H25:H27) -> 1179 | M27: =696946*1.1 -> 766640.6 | N27: =-1871*1.1 -> -2058.1
A28: 24日 | B28: 46046 | C28: 指宿（250） | D28: 94 | E28: =656330*1.1 -> 721963 | F28: 127 | G28: =774669*1.1 -> 852135.9 | H28: 221 | I28: =724335*1.1 -> 796768.5 | J28: =96033*1.1 -> 105636.3
A29: 25日 | B29: 46047
A30: 26日 | B30: 46048 | C30: 曽於（420） | D30: 148 | E30: =649642*1.1 -> 714606.2 | F30: 205 | G30: =745810*1.1 -> 820391 | H30: 353 | I30: =705490*1.1 -> 776039 | J30: =9615*1.1 -> 10576.5
A31: 27日 | B31: 46049 | C31: 曽於（420） | D31: 164 | E31: =653122*1.1 -> 718434.2 | F31: 219 | G31: =753849*1.1 -> 829233.9 | H31: 383 | I31: =710718*1.1 -> 781789.8 | J31: =14843*1.1 -> 16327.3
A32: 28日 | B32: 46050 | C32: 曽於（420） | D32: 171 | E32: =648398*1.1 -> 713237.8 | F32: 162 | G32: =750062*1.1 -> 825068.2 | H32: 333 | I32: =697856*1.1 -> 767641.6 | J32: =1981*1.1 -> 2179.1 | K32: そお計 | L32: =SUM(H30:H32) -> 1069 | M32: =704626*1.1 -> 775088.6 | N32: =8751*1.1 -> 9626.1
A33: 29日 | B33: 46051
A34: 30日 | B34: 46052
A35: 31日 | B35: 46053
A36: 計 | D36: =SUM(D5:D35) -> 2804 | E36: =SUMPRODUCT(D5:D35,E5:E35)/D36 -> 700279.12 | F36: =SUM(F5:F35) -> 3539 | G36: =SUMPRODUCT(F5:F35,G5:G35)/F36 -> 812791.51 | H36: =SUM(H5:H35) -> 6343 | I36: =SUMPRODUCT(H5:H35,I5:I35)/H36 -> 763053.93
C37: ※雄は去勢に含む | H37: （税抜） | I37: =I36/1.1 -> 693685.39
C38: ( )内は予定頭数
H39: 前月比（税込）
H40: 項目 | I40: 価格
H41: 当月価格 | I41: =I36 -> 763053.93
H42: 前月価格 | I42: =SUM(価格推移グラフ!FA5) -> 748369.68
H43: 前月比 | I43: =I41-I42 -> 14684.248
H45: 前年比（税込）
H46: 項目 | I46: 価格
H47: 当月価格 | I47: =I41 -> 763053.93
H48: 前年価格 | I48: =SUM(価格推移グラフ!EP5) -> 520160.76
H49: 前年比 | I49: =I47-I48 -> 242893.17

Sheet 2月
A1: 令和8年2月 | E1: 子牛売買価格速報 | I1: 単位：頭、円
I2: （税込）
A3: 開催日 | B3: 曜日 | C3: 市場名 | D3: め す | F3: 去 勢 | H3: 合 計 | J3: 前回比
D4: 頭数 | E4: 平均 | F4: 頭数 | G4: 平均 | H4: 頭数 | I4: 平均
A5: 1日 | B5: 46054
A6: 2日 | B6: 46055
A7: 3日 | B7: 46056 | C7: 出水（350） | D7: 149 | E7: =641940*1.1 -> 706134 | F7: 169 | G7: =753071*1.1 -> 828378.1 | H7: 318 | I7: =701000*1.1 -> 771100 | J7: =76812*1.1 -> 84493.2
A8: 4日 | B8: 46057 | C8: 徳之島（400） | D8: 180 | E8: =628222*1.1 -> 691044.2 | F8: 249 | G8: =740755*1.1 -> 814830.5 | H8: 429 | I8: =693538*1.1 -> 762891.8 | J8: =21957*1.1 -> 24152.7
A9: 5日 | B9: 46058 | C9: 徳之島（250） | D9: 122 | E9: =623197*1.1 -> 685516.7 | F9: 108 | G9: =754917*1.1 -> 830408.7 | H9: 230 | I9: =685048*1.1 -> 753552.8 | J9: =13466*1.1 -> 14812.6
A10: 6日 | B10: 46059 | C10: 姶良（280） | D10: 108 | E10: =663009*1.1 -> 729309.9 | F10: 127 | G10: =788047*1.1 -> 866851.7 | H10: 235 | I10: =730583*1.1 -> 803641.3 | J10: =20862*1.1 -> 22948.2
A11: 7日 | B11: 46060 | C11: 姶良（280） | D11: 112 | E11: =678054*1.1 -> 745859.4 | F11: 104 | G11: =802048*1.1 -> 882252.8 | H11: 216 | I11: =737755*1.1 -> 811530.5 | J11: =28034*1.1 -> 30837.4
A12: 8日 | B12: 46061 | C12: 薩摩（280） | D12: 123 | E12: =712537*1.1 -> 783790.7 | F12: 133 | G12: =802173*1.1 -> 882390.3 | H12: 256 | I12: =759105*1.1 -> 835015.5 | J12: =72907*1.1 -> 80197.7
A13: 9日 | B13: 46062 | C13: 薩摩（280） | D13: 102 | E13: =716343*1.1 -> 787977.3 | F13: 130 | G13: =803962*1.1 -> 884358.2 | H13: 232 | I13: =765440*1.1 -> 841984 | J13: =79242*1.1 -> 87166.2
A14: 10日 | B14: 46063 | C14: 鹿中央（350） | D14: 134 | E14: =675448*1.1 -> 742992.8 | F14: 160 | G14: =785625*1.1 -> 864187.5 | H14: 294 | I14: =735408*1.1 -> 808948.8 | J14: =14854*1.1 -> 16339.4
A15: 11日 | B15: 46064 | C15: 建国記念の日
A16: 12日 | B16: 46065
A17: 13日 | B17: 46066
A18: 14日 | B18: 46067
A19: 15日 | B19: 46068
A20: 16日 | B20: 46069 | C20: 種子島（420） | D20: 163 | E20: =674049*1.1 -> 741453.9 | F20: 206 | G20: =785291*1.1 -> 863820.1 | H20: 369 | I20: =736152*1.1 -> 809767.2 | J20: =30413*1.1 -> 33454.3
A21: 17日 | B21: 46070 | C21: 肝属（450） | D21: 172 | E21: =688547*1.1 -> 757401.7 | F21: 205 | G21: =803820*1.1 -> 884202 | H21: 377 | I21: =751228*1.1 -> 826350.8 | J21: =54282*1.1 -> 59710.2
A22: 18日 | B22: 46071 | C22: 肝属（450） | D22: 156 | E22: =705013*1.1 -> 775514.3 | F22: 222 | G22: =810550*1.1 -> 891605 | H22: 378 | I22: =766995*1.1 -> 843694.5 | J22: =70049*1.1 -> 77053.9
A23: 19日 | B23: 46072 | C23: 肝属（400） | D23: 223 | E23: =669117*1.1 -> 736028.7 | F23: 223 | G23: =789381*1.1 -> 868319.1 | H23: 446 | I23: =729249*1.1 -> 802173.9 | J23: =32303*1.1 -> 35533.3
A24: 20日 | B24: 46073
A25: 21日 | B25: 46074
A26: 22日 | B26: 46075
A27: 23日 | B27: 46076 | C27: 天皇誕生日 曽於（420） | D27: 170 | E27: =712524*1.1 -> 783776.4 | F27: 178 | G27: =817157*1.1 -> 898872.7 | H27: 348 | I27: =766043*1.1 -> 842647.3 | J27: =61613*1.1 -> 67774.3
A28: 24日 | B28: 46077 | C28: 曽於（420） | D28: 158 | E28: =715968*1.1 -> 787564.8 | F28: 227 | G28: =811775*1.1 -> 892952.5 | H28: 385 | I28: =772457*1.1 -> 849702.7 | J28: =68027*1.1 -> 74829.7
A29: 25日 | B29: 46078 | C29: 曽於（420） | D29: 170 | E29: =712371*1.1 -> 783608.1 | F29: 150 | G29: =819887*1.1 -> 901875.7 | H29: 320 | I29: =762769*1.1 -> 839045.9 | J29: =58339*1.1 -> 64172.9
A30: 26日 | B30: 46079
A31: 27日 | B31: 46080
A32: 28日 | B32: 46081
A34: 計 | D34: =SUM(D5:D31) -> 2242 | E34: =AVERAGE(E5:E33) -> 749198.19 | F34: =SUM(F5:F31) -> 2591 | G34: =AVERAGE(G5:G33) -> 870353.66 | H34: =SUM(D34+F34) -> 4833 | I34: =SUMPRODUCT(H3:H33,I3:I33)/H34 -> 813735.76
C35: ※雄は去勢に含む | H35: （税抜） | I35: =I34/1.1 -> 739759.78
C36: ( )内は予定頭数
H39: 前月比（税込）
H40: 項目 | I40: 価格
H41: 当月価格 | I41: =I34 -> 813735.76
H42: 前月価格 | I42: =SUM('１月'!I41) -> 763053.93
H43: 前月比 | I43: =I41-I42 -> 50681.832
H45: 前年比（税込）
H46: 項目 | I46: 価格
H47: 当月価格 | I47: =I41 -> 813735.76
H48: 前年価格 | I48: =SUM(価格推移グラフ!EQ5) -> 593092.41
H49: 前年比 | I49: =I47-I48 -> 220643.35

Sheet 3月
A1: 令和8年3月 | E1: 子牛売買価格速報 | I1: 単位：頭、円
I2: （税込）
A3: 開催日 | B3: 曜日 | C3: 市場名 | D3: め す | F3: 去 勢 | H3: 合 計 | J3: 前回比
D4: 頭数 | E4: 平均 | F4: 頭数 | G4: 平均 | H4: 頭数 | I4: 平均
A5: 1日 | B5: 46082
A6: 2日 | B6: 46083 | C6: 与論（420） | D6: 169 | E6: =684657*1.1 -> 753122.7 | F6: 206 | G6: =777403*1.1 -> 855143.3 | H6: 375 | I6: =735605*1.1 -> 809165.5 | J6: =66346*1.1 -> 72980.6
A7: 3日 | B7: 46084 | C7: 沖永良部（240）
A8: 4日 | B8: 46085 | C8: 沖永良部（160） | D8: 162 | E8: =676284*1.1 -> 743912.4 | F8: 218 | G8: =758697*1.1 -> 834566.7 | H8: 380 | I8: =723563*1.1 -> 795919.3 | J8: =50692*1.1 -> 55761.2 | K8: 沖永良部：フェリー欠航により4日のみ開催へ変更
A9: 5日 | B9: 46086 | C9: 徳之島（400） | D9: 188 | E9: =673213*1.1 -> 740534.3 | F9: 240 | G9: =781713*1.1 -> 859884.3 | H9: 428 | I9: =734054*1.1 -> 807459.4 | J9: =43479*1.1 -> 47826.9
A10: 6日 | B10: 46087 | C10: 徳之島（250） | D10: 108 | E10: =687870*1.1 -> 756657 | F10: 120 | G10: =790117*1.1 -> 869128.7 | H10: 228 | I10: =741684*1.1 -> 815852.4 | J10: =51109*1.1 -> 56219.9
A11: 7日 | B11: 46088 | C11: 奄美大島（180） | D11: 86 | E11: =663291*1.1 -> 729620.1 | F11: 91 | G11: =757429*1.1 -> 833171.9 | H11: 177 | I11: =711689*1.1 -> 782857.9 | J11: =53081*1.1 -> 58389.1
A12: 8日 | B12: 46089 | C12: 喜界（190） | D12: 82 | E12: =641951*1.1 -> 706146.1 | F12: 108 | G12: =734370*1.1 -> 807807 | H12: 190 | I12: =694484*1.1 -> 763932.4 | J12: =36176*1.1 -> 39793.6
A13: 9日 | B13: 46090 | C13: 姶良（280） | D13: 79 | E13: =717456*1.1 -> 789201.6 | F13: 164 | G13: =818689*1.1 -> 900557.9 | H13: 243 | I13: =785778*1.1 -> 864355.8 | J13: =51760*1.1 -> 56936
A14: 10日 | B14: 46091 | C14: 姶良（280） | D14: 137 | E14: =716978*1.1 -> 788675.8 | F14: 128 | G14: =815641*1.1 -> 897205.1 | H14: 265 | I14: =764634*1.1 -> 841097.4 | J14: =33817*1.1 -> 37198.7
A15: 11日 | B15: 46092 | C15: 薩摩（280） | D15: 121 | E15: =745901*1.1 -> 820491.1 | F15: 138 | G15: =840681*1.1 -> 924749.1 | H15: 259 | I15: =796402*1.1 -> 876042.2 | J15: =34143*1.1 -> 37557.3
A16: 12日 | B16: 46093 | C16: 薩摩（280） | D16: 95 | E16: =748979*1.1 -> 823876.9 | F16: 139 | G16: =832122*1.1 -> 915334.2 | H16: 234 | I16: =798368*1.1 -> 878204.8 | J16: =36109*1.1 -> 39719.9
A17: 13日 | B17: 46094 | C17: 鹿中央（350） | D17: 134 | E17: =708396*1.1 -> 779235.6 | F17: 162 | G17: =846130*1.1 -> 930743 | H17: 296 | I17: =783777*1.1 -> 862154.7 | J17: =48369*1.1 -> 53205.9
A18: 14日 | B18: 46095
A19: 15日 | B19: 46096
A20: 16日 | B20: 46097 | C20: 種子島（420） | D20: 200 | E20: =688905*1.1 -> 757795.5 | F20: 232 | G20: =803293*1.1 -> 883622.3 | H20: 432 | I20: =750336*1.1 -> 825369.6 | J20: =14645*1.1 -> 16109.5
A21: 17日 | B21: 46098 | C21: 肝属（450） | D21: 204 | E21: =695574*1.1 -> 765131.4 | F21: 193 | G21: =817451*1.1 -> 899196.1 | H21: 397 | I21: =754824*1.1 -> 830306.4 | J21: =6664*1.1 -> 7330.4
A22: 18日 | B22: 46099 | C22: 肝属（450） | D22: 187 | E22: =695246*1.1 -> 764770.6 | F22: 224 | G22: =830638*1.1 -> 913701.8 | H22: 411 | I22: =769036*1.1 -> 845939.6 | J22: =20876*1.1 -> 22963.6
A23: 19日 | B23: 46100 | C23: 肝属（400） | D23: 177 | E23: =698847*1.1 -> 768731.7 | F23: 193 | G23: =807212*1.1 -> 887933.2 | H23: 370 | I23: =755373*1.1 -> 830910.3 | J23: =7213*1.1 -> 7934.3
A24: 20日 | B24: 46101 | C24: 春分の日
A25: 21日 | B25: 46102
A26: 22日 | B26: 46103
A27: 23日 | B27: 46104 | C27: 指宿（250） | D27: 104 | E27: =723279*1.1 -> 795606.9 | F27: 123 | G27: =833829*1.1 -> 917211.9 | H27: 227 | I27: =783181*1.1 -> 861499.1 | J27: =58846*1.1 -> 64730.6
A28: 24日 | B28: 46105 | C28: 曽於（420） | D28: 168 | E28: =725655*1.1 -> 798220.5 | F28: 184 | G28: =843446*1.1 -> 927790.6 | H28: 352 | I28: =787227*1.1 -> 865949.7 | J28: =21064*1.1 -> 23170.4
A29: 25日 | B29: 46106 | C29: 曽於（420） | D29: 152 | E29: =730829*1.1 -> 803911.9 | F29: 233 | G29: =826481*1.1 -> 909129.1 | H29: 385 | I29: =788717*1.1 -> 867588.7 | J29: =22554*1.1 -> 24809.4
A30: 26日 | B30: 46107 | C30: 曽於（420） | D30: 167 | E30: =727563*1.1 -> 800319.3 | F30: 187 | G30: =825594*1.1 -> 908153.4 | H30: 354 | I30: =779347*1.1 -> 857281.7 | J30: =13184*1.1 -> 14502.4
A31: 27日 | B31: 46108
A32: 28日 | B32: 46109
A33: 29日 | B33: 46110 | H33: =+D33+F33 -> 0
A34: 30日 | B34: 46111 | H34: =+D34+F34 -> 0
A35: 31日 | B35: 46112 | H35: =+D35+F35 -> 0
A36: 計 | D36: =SUM(D5:D35) -> 2720 | E36: =AVERAGE(E5:E35) -> 772945.34 | F36: =SUM(F5:F35) -> 3283 | G36: =AVERAGE(G5:G35) -> 888159.45 | H36: =SUM(H5:H35) -> 6003 | I36: =SUMPRODUCT(H5:H35,I5:I35)/H36 -> 836400.39
C37: ※雄は去勢に含む | H37: （税抜き） | I37: =I36/1.1 -> 760363.99
C38: ( )内は予定頭数
H39: 前月比（税込）
H40: 項目 | I40: 価格
H41: 当月価格 | I41: =I36 -> 836400.39
H42: 前月価格 | I42: ='2月'!I34 -> 813735.76
H43: 前月比 | I43: =I41-I42 -> 22664.628
H45: 前年比（税込）
H46: 項目 | I46: 価格
H47: 当月価格 | I47: =I41 -> 836400.39
H48: 前年価格 | I48: =SUM(価格推移グラフ!ER5) -> 626389.44
H49: 前年比 | I49: =I47-I48 -> 210010.95

Sheet 4月
A1: 令和8年4月 | E1: 子牛売買価格速報 | I1: 単位：頭、円
I2: （税込）
A3: 開催日 | B3: 曜日 | C3: 市場名 | D3: め す | F3: 去 勢 | H3: 合 計 | J3: 前回比
D4: 頭数 | E4: 平均 | F4: 頭数 | G4: 平均 | H4: 頭数 | I4: 平均
A5: 1日 | B5: 46113 | H5: =IF(D5=0,"",+D5+F5)
A6: 2日 | B6: 46114 | C6: 出水（350） | D6: 130 | E6: =682392*1.1 -> 750631.2 | F6: 215 | G6: =807930*1.1 -> 888723 | H6: 345 | I6: =INT(760626*1.1) -> 836688 | J6: =59626*1.1 -> 65588.6
A7: 3日 | B7: 46115 | C7: 徳之島（400） | D7: 194 | E7: =686536*1.1 -> 755189.6 | F7: 193 | G7: =793415*1.1 -> 872756.5 | H7: 387 | I7: =739837*1.1 -> 813820.7 | J7: =3131*1.1 -> 3444.1
A8: 4日 | B8: 46116 | C8: 徳之島（200） | D8: 111 | E8: =677441*1.1 -> 745185.1 | F8: 120 | G8: =809575*1.1 -> 890532.5 | H8: 231 | I8: =746082*1.1 -> 820690.2 | J8: =9376*1.1 -> 10313.6
A9: 5日 | B9: 46117
A10: 6日 | B10: 46118 | C10: 鹿中央（380） | D10: 149 | E10: =703463*1.1 -> 773809.3 | F10: 152 | G10: =834796*1.1 -> 918275.6 | H10: 301 | I10: =769784*1.1 -> 846762.4 | J10: =-13993*1.1 -> -15392.3
A11: 7日 | B11: 46119 | C11: 薩摩（280） | D11: 132 | E11: =724015*1.1 -> 796416.5 | F11: 136 | G11: =837721*1.1 -> 921493.1 | H11: 268 | I11: =781716*1.1 -> 859887.6 | J11: =-15619*1.1 -> -17180.9
A12: 8日 | B12: 46120 | C12: 薩摩（280） | D12: 123 | E12: =731268*1.1 -> 804394.8 | F12: 136 | G12: =826449*1.1 -> 909093.9 | H12: 259 | I12: =781247*1.1 -> 859371.7 | J12: =-16088*1.1 -> -17696.8
A13: 9日 | B13: 46121 | C13: 姶良（280） | D13: 113 | E13: =717717*1.1 -> 789488.7 | F13: 193 | G13: =824358*1.1 -> 906793.8 | H13: 306 | I13: =784977*1.1 -> 863474.7 | J13: =3365*1.1 -> 3701.5
A14: 10日 | B14: 46122 | C14: 姶良（280） | D14: 136 | E14: =693426*1.1 -> 762768.6 | F14: 146 | G14: =793349*1.1 -> 872683.9 | H14: 282 | I14: =745160*1.1 -> 819676 | J14: =-29588*1.1 -> -32546.8
A15: 11日 | B15: 46123
A16: 12日 | B16: 46124
A17: 13日 | B17: 46125
A18: 14日 | B18: 46126
A19: 15日 | B19: 46127 | C19: 肝属（450） | D19: 196 | E19: =709969*1.1 -> 780965.9 | F19: 205 | G19: =816956*1.1 -> 898651.6 | H19: 401 | I19: =764152*1.1 -> 840567.2 | J19: =3749*1.1 -> 4123.9
A20: 16日 | B20: 46128 | C20: 肝属（450） | D20: 149 | E20: =720349*1.1 -> 792383.9 | F20: 256 | G20: =839113*1.1 -> 923024.3 | H20: 405 | I20: =795420*1.1 -> 874962 | J20: =35017*1.1 -> 38518.7
A21: 17日 | B21: 46129 | C21: 肝属（400） | D21: 198 | E21: =737192*1.1 -> 810911.2 | F21: 200 | G21: =851455*1.1 -> 936600.5 | H21: 398 | I21: =794611*1.1 -> 874072.1 | J21: =34208*1.1 -> 37628.8
A22: 18日 | B22: 46130
A23: 19日 | B23: 46131
A24: 20日 | B24: 46132
A25: 21日 | B25: 46133 | C25: 種子島（420） | D25: 196 | E25: =725566*1.1 -> 798122.6 | F25: 231 | G25: =837281*1.1 -> 921009.1 | H25: 427 | I25: =786002*1.1 -> 864602.2 | J25: =35666*1.1 -> 39232.6
A26: 22日 | B26: 46134
A27: 23日 | B27: 46135 | C27: 曽於（420） | D27: 170 | E27: =750971*1.1 -> 826068.1 | F27: 239 | G27: =847155*1.1 -> 931870.5 | H27: 409 | I27: =807176*1.1 -> 887893.6 | J27: =19949*1.1 -> 21943.9
A28: 24日 | B28: 46136 | C28: 曽於（420） | D28: 179 | E28: =742302*1.1 -> 816532.2 | F28: 221 | G28: =856624*1.1 -> 942286.4 | H28: 400 | I28: =805465*1.1 -> 886011.5 | J28: =16748*1.1 -> 18422.8
A29: 25日 | B29: 46137 | C29: 曽於（420） | D29: 168 | E29: =737464*1.1 -> 811210.4 | F29: 197 | G29: =855772*1.1 -> 941349.2 | H29: 365 | I29: =801318*1.1 -> 881449.8 | J29: =21971*1.1 -> 24168.1
A30: 26日 | B30: 46138 | H30: =IF(D30=0,"",+D30+F30) | L30: =SUM(H27:H29) -> 1174 | M30: 804772 | N30: 1122 | O30: 780621
A31: 27日 | B31: 46139 | H31: =IF(D31=0,"",+D31+F31)
A32: 28日 | B32: 46140 | H32: =IF(D32=0,"",+D32+F32)
A33: 29日 | B33: 46141 | C33: 昭和の日 | H33: =IF(D33=0,"",+D33+F33)
A34: 30日 | B34: 46142 | H34: =IF(D34=0,"",+D34+F34)
A35: 計 | D35: =SUM(D5:D34) -> 2344 | E35: =AVERAGE(E5:E34) -> 787605.21 | F35: =SUM(F6:F34) -> 2840 | G35: =AVERAGE(G5:G34) -> 911676.26 | H35: =SUM(D35+F35) -> 5184 | I35: =SUMPRODUCT(H4:H34,I4:I34)/H35 -> 857298.43
C36: ※雄は去勢に含む | H36: （税抜） | I36: =I35/1.1 -> 779362.21
C37: ( )内は予定頭数
H39: 前月比（税込）
H40: 項目 | I40: 価格
H41: 当月価格 | I41: =I35 -> 857298.43
H42: 前月価格 | I42: ='3月'!I36 -> 836400.39
H43: 前月比 | I43: =I41-I42 -> 20898.043
H45: 前年比（税込）
H46: 項目 | I46: 価格
H47: 当月価格 | I47: =I41 -> 857298.43
H48: 前年価格 | I48: =SUM(価格推移グラフ!ES5) -> 659020.53
H49: 前年比 | I49: =I47-I48 -> 198277.9

Sheet 5月
A1: 令和8年5月 | E1: 子牛売買価格速報 | I1: 単位：頭、円
I2: （税込）
A3: 開催日 | B3: 曜日 | C3: 市場名 | D3: め す | F3: 去 勢 | H3: 合 計 | J3: 前回比
D4: 頭数 | E4: 平均 | F4: 頭数 | G4: 平均 | H4: 頭数 | I4: 平均
A5: 1日 | B5: 46143
A6: 2日 | B6: 46144
A7: 3日 | B7: 46145 | C7: 憲法記念日
A8: 4日 | B8: 46146 | C8: みどりの日
A9: 5日 | B9: 46147 | C9: こどもの日
A10: 6日 | B10: 46148 | C10: 振替休日
A11: 7日 | B11: 46149 | C11: 与論（380） | D11: 175 | E11: =716166*1.1 -> 787782.6 | F11: 207 | G11: =802164*1.1 -> 882380.4 | H11: 382 | I11: =INT(762767*1.1) -> 839043 | J11: =27162*1.1 -> 29878.2
A12: 8日 | B12: 46150 | C12: 沖永良部（240） | D12: 106 | E12: =710519*1.1 -> 781570.9 | F12: 135 | G12: =805430*1.1 -> 885973 | H12: 241 | I12: =INT(763685*1.1) -> 840053 | J12: =40121*1.13 -> 45336.73
A13: 9日 | B13: 46151 | C13: 沖永良部（160） | D13: 63 | E13: =717476*1.1 -> 789223.6 | F13: 84 | G13: =775131*1.1 -> 852644.1 | H13: 147 | I13: =INT(750422*1.1) -> 825464 | J13: =26859*1.1 -> 29544.9
A14: 10日 | B14: 46152 | C14: 徳之島（400） | D14: 171 | E14: =704825*1.1 -> 775307.5 | F14: 247 | G14: =818158*1.1 -> 899973.8 | H14: 418 | I14: =INT(771794*1.1) -> 848973 | J14: =32214*1.1 -> 35435.4
A15: 11日 | B15: 46153 | C15: 徳之島（250） | D15: 105 | E15: =703381*1.1 -> 773719.1 | F15: 133 | G15: =810466*1.1 -> 891512.6 | H15: 238 | I15: =INT(763223*1.1) -> 839545 | J15: =23643*1.1 -> 26007.3
A16: 12日 | B16: 46154 | C16: 奄美大島（190） | D16: 74 | E16: =703446*1.1 -> 773790.6 | F16: 100 | G16: =819410*1.1 -> 901351 | H16: 174 | I16: =INT(770092*1.1) -> 847101 | J16: =58403*1.1 -> 64243.3
A17: 12日 | B17: 46154 | C17: 喜界（190） | D17: 76 | E17: =703789*1.1 -> 774167.9 | F17: 118 | G17: =771949*1.1 -> 849143.9 | H17: 194 | I17: =INT(745247*1.1) -> 819771 | J17: =86939*1.1 -> 95632.9
A18: 14日 | B18: 46156 | C18: 鹿中央（380） | D18: 158 | E18: =743449*1.1 -> 817793.9 | F18: 184 | G18: =849413*1.1 -> 934354.3 | H18: 342 | I18: =INT(800459*1.1) -> 880504 | J18: =INT(30675*1.1) -> 33742
A19: 15日 | B19: 46157 | C19: 薩摩（280） | D19: 123 | E19: =750138*1.1 -> 825151.8 | F19: 150 | G19: =847480*1.1 -> 932228 | H19: 273 | I19: =INT(803623*1.1) -> 883985 | J19: =22137*1.1 -> 24350.7
A20: 16日 | B20: 46158 | C20: 薩摩（280） | D20: 126 | E20: =727563*1.1 -> 800319.3 | F20: 160 | G20: =828625*1.1 -> 911487.5 | H20: 286 | I20: =INT(784101*1.1) -> 862511 | J20: =2615*1.1 -> 2876.5
A21: 17日 | B21: 46159 | C21: 姶良（280） | D21: 91 | E21: =730813*1.1 -> 803894.3 | F21: 179 | G21: =844447*1.1 -> 928891.7 | H21: 270 | I21: =INT(806148*1.1) -> 886762 | J21: =35184*1.1 -> 38702.4
A22: 18日 | B22: 46160 | C22: 姶良（280） | D22: 135 | E22: =723867*1.1 -> 796253.7 | F22: 140 | G22: =845014*1.1 -> 929515.4 | H22: 275 | I22: =785542*1.1 -> 864096.2 | J22: =19661*1.1 -> 21627.1
A23: 19日 | B23: 46161 | C23: 種子島（420） | D23: 172 | E23: =714541*1.1 -> 785995.1 | F23: 254 | G23: =823728*1.1 -> 906100.8 | H23: 426 | I23: =779643*1.1 -> 857607.3 | J23: =-6359*1.1 -> -6994.9
A24: 20日 | B24: 46162 | C24: 肝属（450） | D24: 164 | E24: =729372*1.1 -> 802309.2 | F24: 213 | G24: =854991*1.1 -> 940490.1 | H24: 377 | I24: =INT(800345*1.1) -> 880379 | J24: =15607*1.1 -> 17167.7
A25: 21日 | B25: 46163 | C25: 肝属（450） | D25: 168 | E25: =729554*1.1 -> 802509.4 | F25: 191 | G25: =845832*1.1 -> 930415.2 | H25: 359 | I25: =791418*1.1 -> 870559.8 | J25: =6680*1.1 -> 7348
A26: 22日 | B26: 46164 | C26: 肝属（400） | D26: 175 | E26: =721069*1.1 -> 793175.9 | F26: 232 | G26: =823948*1.1 -> 906342.8 | H26: =+F26+D26 -> 407 | I26: =779713*1.1 -> 857684.3 | J26: =-5025*1.1 -> -5527.5
A27: 23日 | B27: 46165 | C27: 指宿（250） | D27: 119 | E27: =714555*1.1 -> 786010.5 | F27: 120 | G27: =841792*1.1 -> 925971.2 | H27: 239 | I27: =INT(778439*1.1) -> 856282 | J27: =-4742*1.1 -> -5216.2
A28: 24日 | B28: 46166
A29: 25日 | B29: 46167 | C29: 曽於（420） | D29: 159 | E29: =731289*1.1 -> 804417.9 | F29: 210 | G29: =826076*1.1 -> 908683.6 | H29: 369 | I29: =785233*1.1 -> 863756.3 | J29: =-21943*1.1 -> -24137.3
A30: 26日 | B30: 46168 | C30: 曽於（420） | D30: 157 | E30: =725783*1.1 -> 798361.3 | F30: 252 | G30: =814163*1.1 -> 895579.3 | H30: 409 | I30: =780237*1.1 -> 858260.7 | J30: =-25228*1.1 -> -27750.8
A31: 27日 | B31: 46169 | C31: 曽於（420） | D31: 158 | E31: =731835*1.1 -> 805018.5 | F31: 186 | G31: =813758*1.1 -> 895133.8 | H31: 344 | I31: =776131*1.1 -> 853744.1 | J31: =-25187*1.1 -> -27705.7
A32: 28日 | B32: 46170
A33: 29日 | B33: 46171
A34: 30日 | B34: 46172
A35: 31日 | B35: 46173 | H35: =IF(D35=0,"",+D35+F35)
A36: 計 | D36: =SUM(D5:D35) -> 2675 | E36: =AVERAGE(E5:E35) -> 793838.65 | F36: =SUM(F5:F35) -> 3495 | G36: =AVERAGE(G5:G35) -> 905408.62 | H36: =D36+F36 -> 6170 | I36: =SUMPRODUCT(H5:H35,I5:I35)/H36 -> 858761.87
C37: ※雄は去勢に含む | H37: (税抜） | I37: =I36/1.1 -> 780692.61
C38: ( )内は予定頭数
H39: 前月比（税込）
H40: 項目 | I40: 価格
H41: 当月価格 | I41: =I36 -> 858761.87
H42: 前月価格 | I42: ='4月'!I35 -> 857298.43
H43: 前月比 | I43: =I41-I42 -> 1463.4359
H45: 前年比（税込）
H46: 項目 | I46: 価格
H47: 当月価格 | I47: =I41 -> 858761.87
H48: 前年価格 | I48: =SUM(価格推移グラフ!ET5) -> 634304.84
H49: 前年比 | I49: =I47-I48 -> 224457.02

Sheet 6月
A1: 令和8年6月 | E1: 子牛売買価格速報 | I1: 単位：頭、円
I2: （税込）
A3: 開催日 | B3: 曜日 | C3: 市場名 | D3: め す | F3: 去 勢 | H3: 合 計 | J3: 前回比
D4: 頭数 | E4: 平均 | F4: 頭数 | G4: 平均 | H4: 頭数 | I4: 平均
A5: 1日 | B5: 46174 | L5: 徳之島市場、台風6号影響により延期(1-2日⇒4-5日⇒13-14日)
A6: 2日 | B6: 46175
A7: 3日 | B7: 46176 | C7: 出水（350） | D7: 134 | E7: =650119*1.1 -> 715130.9 | F7: 178 | G7: =819169*1.1 -> 901085.9 | H7: 312 | I7: =746564*1.1 -> 821220.4 | J7: =-15776*1.1 -> -17353.6
A8: 4日 | B8: 46177
A9: 5日 | B9: 46178
A10: 6日 | B10: 46179
A11: 7日 | B11: 46180
A12: 8日 | B12: 46181 | C12: 姶良（280） | D12: 143 | E12: =699021*1.1 -> 768923.1 | F12: 129 | G12: =806574*1.1 -> 887231.4 | H12: 272 | I12: =INT(750029*1.1) -> 825031 | J12: =-42432*1.1 -> -46675.2
A13: 9日 | B13: 46182 | C13: 姶良（280） | D13: 63 | E13: =686968*1.1 -> 755664.8 | F13: 132 | G13: =829265*1.1 -> 912191.5 | H13: 195 | I13: =783292*1.1 -> 861621.2 | J13: =-12458*1.1 -> -13703.8
A14: 10日 | B14: 46183 | C14: 薩摩（280） | D14: 104 | E14: =728385*1.1 -> 801223.5 | F14: 134 | G14: =816627*1.1 -> 898289.7 | H14: 238 | I14: =INT(778067*1.1) -> 855873 | J14: =-15568*1.1 -> -17124.8
A15: 11日 | B15: 46184 | C15: 薩摩（280） | D15: 101 | E15: =717802*1.1 -> 789582.2 | F15: 151 | G15: =822351*1.1 -> 904586.1 | H15: 252 | I15: =INT(780448*1.1) -> 858492 | J15: =-13187*1.1 -> -14505.7
A16: 12日 | B16: 46185 | C16: 鹿中央（350） | D16: 154 | E16: =696097*1.1 -> 765706.7 | F16: 165 | G16: =804012*1.1 -> 884413.2 | H16: 319 | I16: =INT(751915*1.1) -> 827106 | J16: =-48544*1.1 -> -53398.4
A17: 13日 | B17: 46186 | C17: 徳之島（400） | D17: 186 | E17: =681419*1.1 -> 749560.9 | F17: 214 | G17: =800051*1.1 -> 880056.1 | H17: 400 | I17: =INT(744888*1.1) -> 819376 | J17: =-23797*1.1 -> -26176.7
A18: 14日 | B18: 46187 | C18: 徳之島（250） | D18: 96 | E18: =684365*1.1 -> 752801.5 | F18: 132 | G18: =779598*1.1 -> 857557.8 | H18: 228 | I18: =739500*1.1 -> 813450 | J18: =-29184*1.1 -> -32102.4
A19: 15日 | B19: 46188
A20: 16日 | B20: 46189 | C20: 種子島（420） | D20: 205 | E20: =655049*1.1 -> 720553.9 | F20: 256 | G20: =777633*1.1 -> 855396.3 | H20: 461 | I20: =723121*1.1 -> 795433.1 | J20: =-56522*1.1 -> -62174.2
A21: 17日 | B21: 46190 | C21: 肝属（450） | D21: 178 | E21: =702781*1.1 -> 773059.1 | F21: 209 | G21: =820182*1.1 -> 902200.2 | H21: 387 | I21: =766183*1.1 -> 842801.3 | J21: =-24061*1.1 -> -26467.1
A22: 18日 | B22: 46191 | C22: 肝属（450） | D22: 193 | E22: =702114*1.1 -> 772325.4 | F22: 213 | G22: =838066*1.1 -> 921872.6 | H22: 406 | I22: =INT(773438*1.1) -> 850781 | J22: =-16806*1.1 -> -18486.6
A23: 19日 | B23: 46192 | C23: 肝属（400） | D23: 163 | E23: =696896*1.1 -> 766585.6 | F23: 179 | G23: =827486*1.1 -> 910234.6 | H23: =+D23+F23 -> 342 | I23: =INT(765246*1.1) -> 841770 | J23: =-24998*1.1 -> -27497.8
A24: 20日 | B24: 46193
A25: 21日 | B25: 46194
A26: 22日 | B26: 46195
A27: 23日 | B27: 46196
A28: 24日 | B28: 46197 | C28: 曽於（420） | D28: 151 | E28: =723212*1.1 -> 795533.2 | F28: 236 | G28: =804962*1.1 -> 885458.2 | H28: 387 | I28: =INT(773065*1.1) -> 850371 | J28: =-7630*1.1 -> -8393
A29: 25日 | B29: 46198 | C29: 曽於（420） | D29: 163 | E29: =721926*1.1 -> 794118.6 | F29: 250 | G29: =797656*1.1 -> 877421.6 | H29: 413 | I29: =767768*1.1 -> 844544.8 | J29: =-12927*1.1 -> -14219.7
A30: 26日 | B30: 46199 | C30: 曽於（420） | D30: 156 | E30: =718968*1.1 -> 790864.8 | F30: 196 | G30: =791372*1.1 -> 870509.2 | H30: 352 | I30: =759284*1.1 -> 835212.4 | J30: =-21411*1.1 -> -23552.1
A31: 27日 | B31: 46200
A32: 28日 | B32: 46201
A33: 29日 | B33: 46202
A34: 30日 | B34: 46203
A35: 計 | D35: =SUM(D5:D34) -> 2190 | E35: =AVERAGE(E5:E34) -> 767442.28 | F35: =SUM(F5:F34) -> 2774 | G35: =AVERAGE(G5:G34) -> 889900.29 | H35: =SUM(H5:H34) -> 4964 | I35: =SUMPRODUCT(H4:H34,I4:I34)/H35 -> 834769.02
C36: ※雄は去勢に含む | H36: (税抜） | I36: =I35/1.1 -> 758880.93
C37: ( )内は予定頭数
H39: 前月比（税込）
H40: 項目 | I40: 価格
H41: 当月価格 | I41: =I35 -> 834769.02
H42: 前月価格 | I42: ='5月'!I36 -> 858761.87
H43: 前月比 | I43: =I41-I42 -> -23992.845
H45: 前年比（税込）
H46: 項目 | I46: 価格
H47: 当月価格 | I47: =I41 -> 834769.02
H48: 前年価格 | I48: =SUM(価格推移グラフ!EU5) -> 642903.72
H49: 前年比 | I49: =I47-I48 -> 191865.3

Sheet 7月
A1: 令和8年7月 | E1: 子牛売買価格速報 | I1: 単位：頭、円
I2: （税込）
A3: 開催日 | B3: 曜日 | C3: 市場名 | D3: め す | F3: 去 勢 | H3: 合 計 | J3: 前回比
D4: 頭数 | E4: 平均 | F4: 頭数 | G4: 平均 | H4: 頭数 | I4: 平均
A5: 1日 | B5: 46204 | C5: 与論（370） | D5: 181 | E5: =665464*1.1 -> 732010.4 | F5: 207 | G5: =782478*1.1 -> 860725.8 | H5: 388 | I5: =727892*1.1 -> 800681.2 | J5: =-34875*1.1 -> -38362.5
A6: 2日 | B6: 46205 | C6: 沖永良部（240） | D6: 79 | E6: =664000*1.1 -> 730400 | F6: 121 | G6: =756686*1.1 -> 832354.6 | H6: 200 | I6: =720075*1.1 -> 792082.5 | J6: =-43610*1.1 -> -47971
A7: 3日 | B7: 46206 | C7: 沖永良部（160） | D7: 62 | E7: =665984*1.1 -> 732582.4 | F7: 69 | G7: =780348*1.1 -> 858382.8 | H7: 131 | I7: =726221*1.1 -> 798843.1 | J7: =-37463*1.1 -> -41209.3
A8: 4日 | B8: 46207 | C8: 徳之島（400） | D8: 182 | E8: =686132*1.1 -> 754745.2 | F8: 228 | G8: =782605*1.1 -> 860865.5 | H8: 410 | I8: =739780*1.1 -> 813758 | J8: =-3151*1.1 -> -3466.1
A9: 5日 | B9: 46208 | C9: 徳之島（200） | D9: 98 | E9: =683969*1.1 -> 752365.9 | F9: 110 | G9: =798200*1.1 -> 878020 | H9: 208 | I9: =744380*1.1 -> 818818 | J9: =1448*1.1 -> 1592.8
A10: 6日 | B10: 46209 | C10: 奄美大島（180） | D10: 79 | E10: =679810*1.1 -> 747791 | F10: 97 | G10: =783567*1.1 -> 861923.7 | H10: 176 | I10: =736994*1.1 -> 810693.4 | J10: =-33098*1.1 -> -36407.8
A11: 6日 | B11: 月 | C11: 喜界（200） | D11: 84 | E11: =648298*1.1 -> 713127.8 | F11: 85 | G11: =745718*1.1 -> 820289.8 | H11: 169 | I11: =697296*1.1 -> 767025.6 | J11: =-47952*1.1 -> -52747.2
A12: 8日 | B12: 46211 | C12: 薩摩（280） | D12: 97 | E12: =720124*1.1 -> 792136.4 | F12: 137 | G12: =821876*1.1 -> 904063.6 | H12: 234 | I12: =INT(779697*1.1) -> 857666 | J12: =405*1.1 -> 445.5
A13: 9日 | B13: 46212 | C13: 薩摩（280） | D13: 95 | E13: =702558*1.1 -> 772813.8 | F13: 128 | G13: =817141*1.1 -> 898855.1 | H13: 223 | I13: =INT(768327*1.1) -> 845159 | J13: =-10965*1.1 -> -12061.5
A14: 10日 | B14: 46213 | C14: 姶良（280） | D14: 84 | E14: =710893*1.1 -> 781982.3 | F14: 147 | G14: =822864*1.1 -> 905150.4 | H14: 231 | I14: =782147*1.1 -> 860361.7 | J14: =18424*1.1 -> 20266.4
A15: 11日 | B15: 46214 | C15: 姶良（280） | D15: 125 | E15: =722616*1.1 -> 794877.6 | F15: 126 | G15: =815365*1.1 -> 896901.5 | H15: 251 | I15: =769175*1.1 -> 846092.5 | J15: =5452*1.1 -> 5997.2
A16: 12日 | B16: 46215
A17: 13日 | B17: 46216
A18: 14日 | B18: 46217 | C18: 肝属（450） | D18: 162 | E18: =678352*1.1 -> 746187.2 | F18: 205 | G18: =790015*1.1 -> 869016.5 | H18: =+D18+F18 -> 367 | I18: =INT(740725*1.1) -> 814797 | J18: =-27786*1.1 -> -30564.6
A19: 15日 | B19: 46218 | C19: 肝属（450） | D19: 147 | E19: =673694*1.1 -> 741063.4 | F19: 221 | G19: =827774*1.1 -> 910551.4 | H19: 368 | I19: =INT(766226*1.1) -> 842848 | J19: =-2285*1.1 -> -2513.5
A20: 16日 | B20: 46219 | C20: 肝属（400） | D20: 188 | E20: =691527*1.1 -> 760679.7 | F20: 175 | G20: =814800*1.1 -> 896280 | H20: 363 | I20: =INT(750956*1.1) -> 826051 | J20: =-17555*1.1 -> -19310.5
A21: 17日 | B21: 46220 | C21: 鹿中央（350） | D21: 132 | E21: =675886*1.1 -> 743474.6 | F21: 169 | G21: =791041*1.1 -> 870145.1 | H21: 301 | I21: =740542*1.1 -> 814596.2 | J21: =-11373*1.1 -> -12510.3
A22: 18日 | B22: 46221
A23: 19日 | B23: 46222
A24: 20日 | B24: 46223 | C24: 海の日
A25: 21日 | B25: 46224
A26: 22日 | B26: 46225 | C26: 種子島（420） | D26: 199 | E26: =657829*1.1 -> 723611.9 | F26: 238 | G26: =776445*1.1 -> 854089.5 | H26: 437 | I26: =722430*1.1 -> 794673 | J26: =-691*1.1 -> -760.1
A27: 23日 | B27: 46226
A28: 24日 | B28: 46227 | C28: 指宿（250） | D28: 89 | E28: =670449*1.1 -> 737493.9 | F28: 110 | G28: =765445*1.1 -> 841989.5 | H28: 199 | I28: =722960*1.1 -> 795256 | J28: =-55479*1.1 -> -61026.9
A29: 25日 | B29: 46228
A30: 26日 | B30: 46229
A31: 27日 | B31: 46230 | C31: 曽於（420） | D31: 163 | E31: =679736*1.1 -> 747709.6 | F31: 193 | G31: =787425*1.1 -> 866167.5 | H31: 356 | I31: =738118*1.1 -> 811929.8 | J31: =-28143*1.1 -> -30957.3
A32: 28日 | B32: 46231 | C32: 曽於（420） | D32: 156 | E32: =684282*1.1 -> 752710.2 | F32: 234 | G32: =799808*1.1 -> 879788.8 | H32: 390 | I32: =INT(753597*1.1) -> 828956 | J32: =-12664*1.1 -> -13930.4
A33: 29日 | B33: 46232 | C33: 曽於（420） | D33: 137 | E33: =664175*1.1 -> 730592.5 | F33: 200 | G33: =773285*1.1 -> 850613.5 | H33: 337 | I33: =INT(728929*1.1) -> 801821 | J33: =-37332*1.1 -> -41065.2
A34: 30日 | B34: 46233
A35: 31日 | B35: 46234 | C35: 出水（350） | D35: 125 | E35: =656576*1.1 -> 722233.6 | F35: 179 | G35: =808659*1.1 -> 889524.9 | H35: 304 | I35: =INT(746125*1.1) -> 820737 | J35: =-439*1.1 -> -482.9
A36: 計 | D36: =SUM(D5:D35) -> 2664 | E36: =AVERAGE(E5:E35) -> 748123.3 | F36: =SUM(F5:F35) -> 3379 | G36: =AVERAGE(G5:G35) -> 871699.98 | H36: =D36+F36 -> 6043 | I36: =SUMPRODUCT(H5:H35,I5:I35)/H36 -> 817823.06
C37: ※雄は去勢に含む | H37: (税抜） | I37: =I36/1.1 -> 743475.51
C38: ( )内は予定頭数
H39: 前月比（税込）
H40: 項目 | I40: 価格
H41: 当月価格 | I41: =I36 -> 817823.06
H42: 前月価格 | I42: ='6月'!$I$35 -> 834769.02
H43: 前月比 | I43: =I41-I42 -> -16945.962
H45: 前年比（税込）
H46: 項目 | I46: 価格
H47: 当月価格 | I47: =I41 -> 817823.06
H48: 前年価格 | I48: =SUM(価格推移グラフ!EV5) -> 623908.6
H49: 前年比 | I49: =I47-I48 -> 193914.46

Sheet 8月
A1: 令和8年8月 | E1: 子牛売買価格速報 | I1: 単位：頭、円
I2: （税込）
A3: 開催日 | B3: 曜日 | C3: 市場名 | D3: め す | F3: 去 勢 | H3: 合 計 | J3: 前回比
D4: 頭数 | E4: 平均 | F4: 頭数 | G4: 平均 | H4: 頭数 | I4: 平均
A5: 1日 | B5: 46235
A6: 2日 | B6: 46236 | C6: 徳之島（400） | D6: 187 | E6: =675160*1.1 -> 742676 | F6: 245 | G6: =763143*1.1 -> 839457.3 | H6: 432 | I6: =INT(725058*1.1) -> 797563 | J6: =-16271*1.1 -> -17898.1
A7: 3日 | B7: 46237 | C7: 徳之島（250） | D7: 113 | E7: =678460*1.1 -> 746306 | F7: 126 | G7: =773381*1.1 -> 850719.1 | H7: 239 | I7: =728502*1.1 -> 801352.2 | J7: =-12826*1.1 -> -14108.6
A8: 4日 | B8: 46238 | C8: 薩摩（280） | D8: 127 | E8: =700535*1.1 -> 770588.5 | F8: 147 | G8: =794449*1.1 -> 873893.9 | H8: 274 | I8: =750920*1.1 -> 826012 | J8: =-23229*1.1 -> -25551.9
A9: 5日 | B9: 46239 | C9: 薩摩（280） | D9: 121 | E9: =684967*1.1 -> 753463.7 | F9: 142 | G9: =794986*1.1 -> 874484.6 | H9: 263 | I9: =INT(744369*1.1) -> 818805 | J9: =-29780*1.1 -> -32758
A10: 6日 | B10: 46240 | C10: 姶良（280） | D10: 110 | E10: =663173*1.1 -> 729490.3 | F10: 178 | G10: =796067*1.1 -> 875673.7 | H10: 288 | I10: =INT(745309*1.1) -> 819839 | J10: =-29990*1.1 -> -32989
A11: 7日 | B11: 46241 | C11: 姶良（280） | D11: 117 | E11: =661906*1.1 -> 728096.6 | F11: 108 | G11: =778907*1.1 -> 856797.7 | H11: 225 | I11: =INT(718067*1.1) -> 789873 | J11: =-57325*1.1 -> -63057.5
A12: 8日 | B12: 46242 | C12: 鹿中央（350） | D12: 125 | E12: =675096*1.1 -> 742605.6 | F12: 125 | G12: =804064*1.1 -> 884470.4 | H12: 250 | I12: =739580*1.1 -> 813538 | J12: -1058
A13: 9日 | B13: 46243
A14: 10日 | B14: 46244
A15: 11日 | B15: 46245 | C15: 山の日
A16: 12日 | B16: 46246
A17: 13日 | B17: 46247
A18: 14日 | B18: 46248
A19: 15日 | B19: 46249
A20: 16日 | B20: 46250
A21: 17日 | B21: 46251 | C21: 肝属（450） | D21: 174 | E21: =674443*1.1 -> 741887.3 | F21: 226 | G21: =807314*1.1 -> 888045.4 | H21: 400 | I21: =INT(749515*1.1) -> 824466 | J21: =-3139*1.1 -> -3452.9
A22: 18日 | B22: 46252 | C22: 肝属（450） | D22: 175 | E22: =690954*1.1 -> 760049.4 | F22: 231 | G22: =810152*1.1 -> 891167.2 | H22: 406 | I22: =758773*1.1 -> 834650.3 | J22: =6119*1.1 -> 6730.9
A23: 19日 | B23: 46253 | C23: 肝属（400） | D23: 204 | E23: =652206*1.1 -> 717426.6 | F23: 211 | G23: =794754*1.1 -> 874229.4 | H23: 415 | I23: =724682*1.1 -> 797150.2 | J23: =-27972*1.1 -> -30769.2
A24: 20日 | B24: 46254
A25: 21日 | B25: 46255 | C25: 種子島（420） | D25: 162 | E25: =672685*1.1 -> 739953.5 | F25: 233 | G25: =788554*1.1 -> 867409.4 | H25: 395 | I25: =741033*1.1 -> 815136.3 | J25: =18499*1.1 -> 20348.9
A26: 22日 | B26: 46256
A27: 23日 | B27: 46257
A28: 24日 | B28: 46258 | C28: 曽於（420） | D28: 147 | E28: =702014*1.1 -> 772215.4 | F28: 226 | G28: =808624*1.1 -> 889486.4 | H28: 373 | I28: =INT(766609*1.1) -> 843269 | J28: =26582*1.1 -> 29240.2
A29: 25日 | B29: 46259 | C29: 曽於（420） | D29: 159 | E29: =702535*1.1 -> 772788.5 | F29: 248 | G29: =816645*1.1 -> 898309.5 | H29: 407 | I29: =INT(772066*1.1) -> 849272 | J29: =32039*1.1 -> 35242.9
A30: 26日 | B30: 46260 | C30: 曽於（420） | D30: 169 | E30: =685485*1.1 -> 754033.5 | F30: 180 | G30: =805522*1.1 -> 886074.2 | H30: 349 | I30: =INT(747395*1.1) -> 822134 | J30: =7368*1.1 -> 8104.8
A31: 27日 | B31: 46261
A32: 28日 | B32: 46262
A33: 29日 | B33: 46263
A34: 30日 | B34: 46264
A35: 31日 | B35: 46265
A36: 計 | D36: =SUM(D5:D35) -> 2090 | E36: =AVERAGE(E5:E35) -> 747970.06 | F36: =SUM(F5:F35) -> 2626 | G36: =AVERAGE(G5:G35) -> 875015.59 | H36: =D36+F36 -> 4716 | I36: =SUMPRODUCT(H5:H35,I5:I35)/H36 -> 819239.05
C37: ※雄は去勢に含む | H37: (税抜） | I37: =I36/1.1 -> 744762.77
C38: ( )内は予定頭数
H39: 前月比（税込）
H40: 項目 | I40: 価格
H41: 当月価格 | I41: =I36 -> 819239.05
H42: 前月価格 | I42: ='7月'!$I$36 -> 817823.06
H43: 前月比 | I43: =I41-I42 -> 1415.9865
H45: 前年比（税込）
H46: 項目 | I46: 価格
H47: 当月価格 | I47: =I41 -> 819239.05
H48: 前年価格 | I48: =SUM(価格推移グラフ!EW5) -> 642130.87
H49: 前年比 | I49: =I47-I48 -> 177108.18

Sheet 9月
A1: 令和8年9月 | E1: 子牛売買価格速報 | I1: 単位：頭、円
I2: （税込）
A3: 開催日 | B3: 曜日 | C3: 市場名 | D3: め す | F3: 去 勢 | H3: 合 計 | J3: 前回比
D4: 頭数 | E4: 平均 | F4: 頭数 | G4: 平均 | H4: 頭数 | I4: 平均
A5: 1日 | B5: 46266 | C5: 与論（360） | D5: 146 | E5: =687890*1.1 -> 756679 | F5: 201 | G5: =779035*1.1 -> 856938.5 | H5: 347 | I5: =740686*1.1 -> 814754.6 | J5: =I5-'7月'!I5 -> 14073.4
A6: 2日 | B6: 46267 | K6: 沖永良部家畜市場 台風の影響により2日・3日→13日に変更
A7: 3日 | B7: 46268
A8: 4日 | B8: 46269 | C8: 徳之島（400） | D8: 171 | E8: =673474*1.1 -> 740821.4 | F8: 246 | G8: =769220*1.1 -> 846142 | H8: 417 | I8: =729957*1.1 -> 802952.7 | J8: =I8-'8月'!I6 -> 5389.7
A9: 5日 | B9: 46270 | C9: 徳之島（250） | D9: 92 | E9: =664717*1.1 -> 731188.7 | F9: 154 | G9: =765688*1.1 -> 842256.8 | H9: 246 | I9: =727927*1.1 -> 800719.7 | J9: =I9-'8月'!I7 -> -632.5 | K9: 九州管内系統和牛枝肉共励会
A10: 6日 | B10: 46271 | C10: 奄美大島（180） 喜界（190） | D10: =64+90 -> 154 | E10: =(684875+651611)/2*1.1 -> 735067.3 | F10: =95+79 -> 174 | G10: =(763947+751684)/2*1.1 -> 833597.05 | H10: =159+169 -> 328 | I10: =(698391+732119)/2*1.1 -> 786780.5 | J10: =786781-788859 -> -2078
A11: 7日 | B11: 46272
A12: 8日 | B12: 46273 | C12: 鹿中央（350） | D12: 167 | E12: =660952*1.1 -> 727047.2 | F12: 168 | G12: =793702*1.1 -> 873072.2 | H12: 335 | I12: =727525*1.1 -> 800277.5 | J12: =I12-'8月'!I12 -> -13260.5
A13: 9日 | B13: 46274 | C13: 姶良（280） | D13: 89 | E13: =668438*1.1 -> 735281.8 | F13: 178 | G13: =795067*1.1 -> 874573.7 | H13: 267 | I13: =752858*1.1 -> 828143.8 | J13: =I13-'8月'!I10 -> 8304.8
A14: 10日 | B14: 46275 | C14: 姶良（280） | D14: 141 | E14: =692121*1.1 -> 761333.1 | F14: 136 | G14: =793816*1.1 -> 873197.6 | H14: 277 | I14: =742051*1.1 -> 816256.1 | J14: =I14-'8月'!I11 -> 26383.1
A15: 11日 | B15: 46276 | C15: 薩摩（280） | D15: 121 | E15: 771818 | F15: 162 | G15: 905076 | H15: 283 | I15: 848100 | J15: =I15-'8月'!I8 -> 22088
A16: 12日 | B16: 46277 | C16: 薩摩（280） | D16: 129 | E16: 779909 | F16: 149 | G16: 872603 | H16: 278 | I16: 829590 | J16: =I16-'8月'!I9 -> 10785
A17: 13日 | B17: 46278 | C17: 沖永良部（400） | D17: 147 | E17: =651514*1.1 -> 716665.4 | F17: 212 | G17: =741486*1.1 -> 815634.6 | H17: 359 | I17: =705093*1.1 -> 775602.3 | J17: =775602-795463 -> -19861
A18: 14日 | B18: 46279
A19: 15日 | B19: 46280 | C19: 種子島（420） | D19: 156 | E19: =634654*1.1 -> 698119.4 | F19: 188 | G19: =779957*1.1 -> 857952.7 | H19: 344 | I19: =715064*1.1 -> 786570.4 | J19: =I19-'8月'!I25 -> -28565.9
A20: 16日 | B20: 46281 | C20: 肝属（450）
A21: 17日 | B21: 46282 | C21: 肝属（450）
A22: 18日 | B22: 46283 | C22: 肝属（400）
A23: 19日 | B23: 46284 | C23: 指宿（250）
A24: 20日 | B24: 46285
A25: 21日 | B25: 46286 | C25: 敬老の日
A26: 22日 | B26: 46287 | C26: 国民の休日
A27: 23日 | B27: 46288 | C27: 秋分の日
A28: 24日 | B28: 46289 | C28: 曽於（420）
A29: 25日 | B29: 46290 | C29: 曽於（420）
A30: 26日 | B30: 46291 | C30: 曽於（420）
A31: 27日 | B31: 46292
A32: 28日 | B32: 46293
A33: 29日 | B33: 46294
A34: 30日 | B34: 46295
A35: 計 | D35: =SUM(D5:D34) -> 1513 | E35: =AVERAGE(E7:E34) -> 739725.13 | F35: =SUM(F5:F34) -> 1968 | G35: =AVERAGE(G7:G34) -> 859410.57 | H35: =SUM(D35+F35) -> 3481 | I35: =SUMPRODUCT(H4:H34,I4:I34)/H35 -> 806538.99
C36: ※雄は去勢に含む | H36: (税抜） | I36: =I35/1.1 -> 733217.27
C37: ( )内は予定頭数
H38: 前月比（税込）
H39: 項目 | I39: 価格
H40: 当月価格 | I40: =I35 -> 806538.99
H41: 前月価格 | I41: ='8月'!$I$36 -> 819239.05
H42: 前月比 | I42: =I40-I41 -> -12700.056
H44: 前年比（税込）
H45: 項目 | I45: 価格
H46: 当月価格 | I46: =I40 -> 806538.99
H47: 前年価格 | I47: =SUM(価格推移グラフ!EX5) -> 630486.23
H48: 前年比 | I48: =I46-I47 -> 176052.76

Sheet 10月
A1: 令和8年10月 | E1: 子牛売買価格速報 | I1: 単位：頭、円
I2: （税込）
A3: 開催日 | B3: 曜日 | C3: 市場名 | D3: め す | F3: 去 勢 | H3: 合 計 | J3: 前回比
D4: 頭数 | E4: 平均 | F4: 頭数 | G4: 平均 | H4: 頭数 | I4: 平均
A5: 1日 | B5: 46296 | C5: 徳之島（400）
A6: 2日 | B6: 46297 | C6: 徳之島（200）
A7: 3日 | B7: 46298 | K7: 県畜産共進会（予定）
A8: 4日 | B8: 46299
A9: 5日 | B9: 46300 | C9: 出水（350）
A10: 6日 | B10: 46301 | C10: 薩摩（280）
A11: 7日 | B11: 46302 | C11: 薩摩（280）
A12: 8日 | B12: 46303 | C12: 姶良（280）
A13: 9日 | B13: 46304 | C13: 姶良（280）
A14: 10日 | B14: 46305 | C14: 鹿中央（350）
A15: 11日 | B15: 46306
A16: 12日 | B16: 46307 | C16: スポーツの日
A17: 13日 | B17: 46308
A18: 14日 | B18: 46309
A19: 15日 | B19: 46310 | C19: 種子島（420）
A20: 16日 | B20: 46311
A21: 17日 | B21: 46312
A22: 18日 | B22: 46313
A23: 19日 | B23: 46314 | C23: 肝属（450）
A24: 20日 | B24: 46315 | C24: 肝属（450）
A25: 21日 | B25: 46316 | C25: 肝属（400）
A26: 22日 | B26: 46317
A27: 23日 | B27: 46318
A28: 24日 | B28: 46319
A29: 25日 | B29: 46320
A30: 26日 | B30: 46321 | C30: 曽於（420）
A31: 27日 | B31: 46322 | C31: 曽於（420）
A32: 28日 | B32: 46323 | C32: 曽於（420）
A33: 29日 | B33: 46324
A34: 30日 | B34: 46325
A35: 31日 | B35: 46326
A36: 計 | D36: =SUM(D5:D35) -> 0 | E36: =AVERAGE(E5:E35) -> #DIV/0! | F36: =SUM(F5:F35) -> 0 | G36: =AVERAGE(G5:G35) -> #DIV/0! | H36: =D36+F36 -> 0 | I36: =SUMPRODUCT(H5:H35,I5:I35)/H36 -> #DIV/0!
C37: ※雄は去勢に含む | H37: （税抜） | I37: =I36/1.1 -> #DIV/0!
C38: ( )内は予定頭数
H39: 前月比（税込）
H40: 項目 | I40: 価格
H41: 当月価格 | I41: =I36 -> #DIV/0!
H42: 前月価格 | I42: ='9月'!I35 -> 806538.99
H43: 前月比 | I43: =I41-I42 -> #DIV/0!
H45: 前年比（税込）
H46: 項目 | I46: 価格
H47: 当月価格 | I47: =I41 -> #DIV/0!
H48: 前年価格 | I48: =SUM(価格推移グラフ!EY5) -> 650081.69
H49: 前年比 | I49: =I47-I48 -> #DIV/0!

Sheet 11月
A1: 令和8年11月 | E1: 子牛売買価格速報 | I1: 単位：頭、円
I2: （税込）
A3: 開催日 | B3: 曜日 | C3: 市場名 | D3: め す | F3: 去 勢 | H3: 合 計 | J3: 前回比
D4: 頭数 | E4: 平均 | F4: 頭数 | G4: 平均 | H4: 頭数 | I4: 平均
A5: 1日 | B5: 46327
A6: 2日 | B6: 46328 | C6: 与論（360）
A7: 3日 | B7: 46329 | C7: 沖永良部（240）
A8: 4日 | B8: 46330 | C8: 沖永良部（160）
A9: 5日 | B9: 46331 | C9: 徳之島（400）
A10: 6日 | B10: 46332 | C10: 徳之島（200）
A11: 7日 | B11: 46333 | C11: 奄美大島（180）
A12: 8日 | B12: 46334 | C12: 喜界（210）
A13: 9日 | B13: 46335 | K13: 県枝肉共進会（予定）
A14: 10日 | B14: 46336 | C14: 鹿中央（350）
A15: 11日 | B15: 46337 | C15: 姶良（280）
A16: 12日 | B16: 46338 | C16: 姶良（280）
A17: 13日 | B17: 46339 | C17: 薩摩（280）
A18: 14日 | B18: 46340 | C18: 薩摩（280）
A19: 15日 | B19: 46341
A20: 16日 | B20: 46342
A21: 17日 | B21: 46343 | C21: 種子島（420）
A22: 18日 | B22: 46344 | C22: 肝属（450）
A23: 19日 | B23: 46345 | C23: 肝属（450）
A24: 20日 | B24: 46346 | C24: 肝属（400）
A25: 21日 | B25: 46347
A26: 22日 | B26: 46348
A27: 23日 | B27: 46349 | C27: 勤労感謝の日
A28: 24日 | B28: 46350 | C28: 指宿（250）
A29: 25日 | B29: 46351 | C29: 曽於（420）
A30: 26日 | B30: 46352 | C30: 曽於（420）
A31: 27日 | B31: 46353 | C31: 曽於（420）
A32: 28日 | B32: 46354
A33: 29日 | B33: 46355
A34: 30日 | B34: 46356
A35: 計 | D35: =SUM(D5:D34) -> 0 | E35: =AVERAGE(E5:E34) -> #DIV/0! | F35: =SUM(F5:F34) -> 0 | G35: =AVERAGE(G5:G34) -> #DIV/0! | H35: =D35+F35 -> 0 | I35: =SUMPRODUCT(H4:H34,I4:I34)/H35 -> #DIV/0!
C36: ※雄は去勢に含む | H36: （税抜） | I36: =I35/1.1 -> #DIV/0!
C37: ( )内は予定頭数
H39: 前月比（税込）
H40: 項目 | I40: 価格
H41: 当月価格 | I41: =I35 -> #DIV/0!
H42: 前月価格 | I42: ='10月'!I36 -> #DIV/0!
H43: 前月比 | I43: =I41-I42 -> #DIV/0!
H45: 前年比（税込）
H46: 項目 | I46: 価格
H47: 当月価格 | I47: =I41 -> #DIV/0!
H48: 前年価格 | I48: =SUM(価格推移グラフ!EZ5) -> 690673.69
H49: 前年比 | I49: =I47-I48 -> #DIV/0!

Sheet 12月
A1: 令和8年12月 | E1: 子牛売買価格速報 | I1: 単位：頭、円
I2: （税込）
A3: 開催日 | B3: 曜日 | C3: 市場名 | D3: め す | F3: 去 勢 | H3: 合 計 | J3: 前回比
D4: 頭数 | E4: 平均 | F4: 頭数 | G4: 平均 | H4: 頭数 | I4: 平均
A5: 1日 | B5: 46357 | C5: 出水（350）
A6: 2日 | B6: 46358 | C6: 徳之島（400）
A7: 3日 | B7: 46359 | C7: 徳之島（250）
A8: 4日 | B8: 46360
A9: 5日 | B9: 46361
A10: 6日 | B10: 46362
A11: 7日 | B11: 46363 | C11: 鹿中央（350）
A12: 8日 | B12: 46364 | C12: 薩摩（280）
A13: 9日 | B13: 46365 | C13: 薩摩（280）
A14: 10日 | B14: 46366 | C14: 姶良（280）
A15: 11日 | B15: 46367 | C15: 姶良（280）
A16: 12日 | B16: 46368 | C16: 種子島（420）
A17: 13日 | B17: 46369
A18: 14日 | B18: 46370 | C18: 肝属（450）
A19: 15日 | B19: 46371 | C19: 肝属（450）
A20: 16日 | B20: 46372 | C20: 肝属（400）
A21: 17日 | B21: 46373 | C21: 曽於（420）
A22: 18日 | B22: 46374 | C22: 曽於（420）
A23: 19日 | B23: 46375 | C23: 曽於（420）
A24: 20日 | B24: 46376
A25: 21日 | B25: 46377
A26: 22日 | B26: 46378
A27: 23日 | B27: 46379
A28: 24日 | B28: 46380
A29: 25日 | B29: 46381
A30: 26日 | B30: 46382
A31: 27日 | B31: 46383
A32: 28日 | B32: 46384
A33: 29日 | B33: 46385
A34: 30日 | B34: 46386
A35: 31日 | B35: 46387
D36: =SUM(D5:D35) -> 0 | E36: =(D5*E5+D6*E6+D7*E7+D9*E9+D10*E10+D11*E11+D12*E12+D13*E13+D16*E16+D17*E17+D18*E18+D19*E19+D20*E20+D24*E24+D25*E25+D26*E26)/D36 -> #DIV/0! | F36: =SUM(F5:F35) -> 0 | G36: =(F5*G5+F6*G6+F7*G7+F9*G9+F10*G10+F11*G11+F12*G12+F13*G13+F16*G16+F17*G17+F18*G18+F19*G19+F20*G20+F24*G24+F25*G25+F26*G26)/F36 -> #DIV/0! | H36: =D36+F36 -> 0 | I36: =SUMPRODUCT(H5:H35,I5:I35)/H36 -> #DIV/0!
C37: ※雄は去勢に含む | H37: （税抜） | I37: =I36/1.1 -> #DIV/0!
C38: ( )内は予定頭数
H39: 前月比（税込）
H40: 項目 | I40: 価格
H41: 当月価格 | I41: =I36 -> #DIV/0!
H42: 前月価格 | I42: ='11月'!I35 -> #DIV/0!
H43: 前月比 | I43: =I41-I42 -> #DIV/0!
H45: 前年比（税込）
H46: 項目 | I46: 価格
H47: 当月価格 | I47: =I41 -> #DIV/0!
H48: 前年価格 | I48: =SUM(価格推移グラフ!FA5) -> 748369.68
H49: 前年比 | I49: =I47-I48 -> #DIV/0!

Sheet 価格推移グラフ
E1: 税込 | L1: 単位：円
B2: 24.1月 | C2: 2月 | D2: 3月 | E2: 4月 | F2: 5月 | G2: 6月 | H2: 7月 | I2: 8月 | J2: 9月 | K2: 10月 | L2: 11月 | M2: 12月 | N2: 25.1月 | O2: 2月 | P2: 3月 | Q2: 4月 | R2: 5月 | S2: 6月 | T2: 7月 | U2: 8月 | V2: 9月 | W2: 10月 | X2: 11月 | Y2: 12月 | Z2: 26.1月 | AA2: 2月 | AB2: 3月 | AC2: 4月 | AD2: 5月 | AE2: 6月 | AF2: 7月 | AG2: 8月 | AH2: 9月 | AI2: 10月 | AJ2: 11月 | AK2: 12月 | AL2: 27.1月 | AM2: 2月 | AN2: 3月 | AO2: 4月 | AP2: 5月 | AQ2: 6月 | AR2: 7月 | AS2: 8月 | AT2: 9月 | AU2: 10月 | AV2: 11月 | AW2: 12月 | AX2: 28.1月 | AY2: 2月 | AZ2: 3月 | BA2: 4月 | BB2: 5月 | BC2: 6月 | BD2: 7月 | BE2: 8月 | BF2: 9月 | BG2: 10月 | BH2: 11月 | BI2: 12月 | BJ2: 29.1月 | BK2: 2月 | BL2: 3月 | BM2: 4月 | BN2: 5月 | BO2: 6月 | BP2: 7月 | BQ2: 8月 | BR2: 9月 | BS2: 10月 | BT2: 11月 | BU2: 12月 | BV2: 30.1月 | BW2: 2月 | BX2: 3月 | BY2: 4月 | BZ2: 5月 | CA2: 6月 | CB2: 7月 | CC2: 8月 | CD2: 9月 | CE2: 10月 | CF2: 11月 | CG2: 12月 | CH2: R2.1月 | CI2: 2月 | CJ2: 3月 | CK2: 4月 | CL2: 5月 | CM2: 6月 | CN2: 7月 | CO2: 8月 | CP2: 9月 | CQ2: 10月 | CR2: 11月 | CS2: 12月 | CT2: R3.1月 | CU2: 2月 | CV2: 3月 | CW2: 4月 | CX2: 5月 | CY2: 6月 | CZ2: 7月 | DA2: 8月 | DB2: 9月 | DC2: 10月 | DD2: 11月 | DE2: 12月 | DF2: R4.1月 | DG2: 2月 | DH2: 3月 | DI2: 4月 | DJ2: 5月 | DK2: 6月 | DL2: 7月 | DM2: 8月 | DN2: 9月 | DO2: 10月 | DP2: 11月 | DQ2: 12月 | DR2: R5.1月 | DS2: 2月 | DT2: 3月 | DU2: 4月 | DV2: 5月 | DW2: 6月 | DX2: 7月 | DY2: 8月 | DZ2: 9月 | EA2: 10月 | EB2: 11月 | EC2: 12月 | ED2: R6.1月 | EE2: 2月 | EF2: 3月 | EG2: 4月 | EH2: 5月 | EI2: 6月 | EJ2: 7月 | EK2: 8月 | EL2: 9月 | EM2: 10月 | EN2: 11月 | EO2: 12月 | EP2: R7.1月 | EQ2: 2月 | ER2: 3月 | ES2: 4月 | ET2: 5月 | EU2: 6月 | EV2: 7月 | EW2: 8月 | EX2: 9月 | EY2: 10月 | EZ2: 11月 | FA2: 12月 | FB2: R8.1月 | FC2: 2月 | FD2: 3月 | FE2: 4月 | FF2: 5月 | FG2: 6月 | FH2: 7月 | FI2: 8月 | FJ2: 9月 | FK2: 10月 | FL2: 11月 | FM2: 12月
A3: 雌 | B3: 378759 | C3: 406910 | D3: 399791 | E3: 393339 | F3: 371344 | G3: 373946 | H3: 361938 | I3: 368714 | J3: 347982 | K3: 357284 | L3: 372305 | M3: 410290 | N3: 409175 | O3: 425819 | P3: 423549 | Q3: 435620 | R3: 435267 | S3: 451785 | T3: 445276 | U3: 457976 | V3: 461043 | W3: 476790 | X3: 486433 | Y3: 510214 | Z3: 494382 | AA3: 504149 | AB3: 505476 | AC3: 531144 | AD3: 532299 | AE3: 536264 | AF3: 509770 | AG3: 519443 | AH3: 506861 | AI3: 519291 | AJ3: 531346 | AK3: 548537 | AL3: 541039 | AM3: 580429 | AN3: 591531 | AO3: 601924 | AP3: 609436 | AQ3: 631747 | AR3: 613757 | AS3: 626993 | AT3: 609556 | AU3: 616418 | AV3: 637652 | AW3: 683511 | AX3: 696878.04 | AY3: 728969.25 | AZ3: 735801.3 | BA3: 778914.82 | BB3: 773214.96 | BC3: 772053.4 | BD3: 753324.21 | BE3: 788471.26 | BF3: 765990.93 | BG3: 782886.14 | BH3: 791489.72 | BI3: 817216.26 | BJ3: 800003.18 | BK3: 823641.91 | BL3: 776943 | BM3: 810370.9 | BN3: 782530.12 | BO3: 770934.53 | BP3: 737934.98 | BQ3: 707834.05 | BR3: 686704.19 | BS3: 694961.71 | BT3: 719603.39 | BU3: 759541.8 | BV3: 742755.51 | BW3: 745385.45 | BX3: 737601.84 | BY3: 762141.46 | BZ3: 734206.28 | CA3: 755083.96 | CB3: 719129.52 | CC3: 736697.22 | CD3: 702496.33 | CE3: 729986 | CF3: 744230 | CG3: 762410 | CH3: 700445.28 | CI3: 687211.22 | CJ3: 647457.79 | CK3: 626251.06 | CL3: 583940.19 | CM3: 650338.51 | CN3: 628876.5 | CO3: 640486.37 | CP3: 618565.06 | CQ3: 676746.82 | CR3: 714645.45 | CS3: 753638.86 | CT3: 711949 | CU3: 730306.97 | CV3: 735386.62 | CW3: 775342.94 | CX3: 723973.14 | CY3: 715600.73 | CZ3: 708312.84 | DA3: 678691.05 | DB3: 670429.59 | DC3: 674430.92 | DD3: 684813.98 | DE3: 665204.1 | DF3: 663929.38 | DG3: 648157.02 | DH3: 631423.8 | DI3: 647443.39 | DJ3: 594087.11 | DK3: 603170.49 | DL3: 570153.62 | DM3: 536296.23 | DN3: 425398.16 | DO3: 484824.72 | DP3: 412524.13 | DQ3: 569106.34 | DR3: 551577 | DS3: 530594.16 | DT3: 528364.02 | DU3: 539879.73 | DV3: 497681.38 | DW3: 487731.41 | DX3: 441278.51 | DY3: 455071.95 | DZ3: 419652.08 | EA3: 400330.7 | EB3: 418525.38 | EC3: =SUM([1]価格推移グラフ!$EC$3) -> 460102.36 | ED3: 463515.92 | EE3: 451711.43 | EF3: 482594.8 | EG3: 497045.78 | EH3: 438746.1 | EI3: 458557.07 | EJ3: 417008.53 | EK3: 420851.82 | EL3: 405601.38 | EM3: 404443.74 | EN3: 430899.43 | EO3: 457786.6 | EP3: 450568.09 | EQ3: 500611.54 | ER3: 508888.33 | ES3: 576756.11 | ET3: 558829.65 | EU3: 581519.25 | EV3: 561734.25 | EW3: 578445.41 | EX3: 564955.97 | EY3: 582582.88 | EZ3: 618347.92 | FA3: 680093.33 | FB3: =SUM('１月'!E36) -> 700279.12 | FC3: =SUM('2月'!E34) -> 749198.19 | FD3: =SUM('3月'!E36) -> 772945.34 | FE3: =SUM('4月'!E35) -> 787605.21 | FF3: =SUM('5月'!E36) -> 793838.65 | FG3: =SUM('6月'!E35) -> 767442.28 | FH3: =SUM('7月'!E36) -> 748123.3 | FI3: =SUM('8月'!E36) -> 747970.06 | FJ3: =SUM('9月'!E35) -> 739725.13 | FK3: =SUM('10月'!E36) -> #DIV/0! | FL3: =SUM('11月'!E35) -> #DIV/0! | FM3: =SUM('12月'!E36) -> #DIV/0!
A4: 去勢 | B4: 445058 | C4: 448455 | D4: 451434 | E4: 458677 | F4: 441897 | G4: 437183 | H4: 430905 | I4: 432701 | J4: 425239 | K4: 427471 | L4: 454537 | M4: 486218 | N4: 481517 | O4: 489848 | P4: 500720 | Q4: 511021 | R4: 519269 | S4: 524364 | T4: 516513 | U4: 527168 | V4: 530287 | W4: 549655 | X4: 567443 | Y4: 587145 | Z4: 567837 | AA4: 572197 | AB4: 581427 | AC4: 610442 | AD4: 614076 | AE4: 604470 | AF4: 583777 | AG4: 596752 | AH4: 578872 | AI4: 594937 | AJ4: 616799 | AK4: 633957 | AL4: 630716 | AM4: 669090 | AN4: 677006 | AO4: 686066 | AP4: 698490 | AQ4: 706355 | AR4: 690861 | AS4: 700973 | AT4: 705326 | AU4: 709027 | AV4: 735736 | AW4: 782978 | AX4: 795453.66 | AY4: 823513.13 | AZ4: 835686.78 | BA4: 887834.78 | BB4: 870867.61 | BC4: 866979.44 | BD4: 855846.83 | BE4: 895545.36 | BF4: 876488.54 | BG4: 884470.2 | BH4: 908222.32 | BI4: 943039.67 | BJ4: 924634.07 | BK4: 933679.43 | BL4: 899822.72 | BM4: 916842.43 | BN4: 905737.31 | BO4: 877939.23 | BP4: 839167.87 | BQ4: 829499.39 | BR4: 821596.93 | BS4: 811123.58 | BT4: 861133.93 | BU4: 898670.29 | BV4: 868941.82 | BW4: 881666.64 | BX4: 868906.41 | BY4: 884867.36 | BZ4: 858250.7 | CA4: 858797.22 | CB4: 833448.55 | CC4: 857069.19 | CD4: 821747.6 | CE4: 833285.65 | CF4: 870834 | CG4: 876670 | CH4: 827492.12 | CI4: 796025.53 | CJ4: 755082.39 | CK4: 725255.16 | CL4: 672770.61 | CM4: 720002.85 | CN4: 715590.21 | CO4: 710516.87 | CP4: 712020.59 | CQ4: 752971.77 | CR4: 812257.12 | CS4: 858606.04 | CT4: 836622 | CU4: 855838.82 | CV4: 855566.38 | CW4: 884857.74 | CX4: 812585.39 | CY4: 811597.49 | CZ4: 804529.16 | DA4: 779595.94 | DB4: 754315.89 | DC4: 759431.12 | DD4: 783924.63 | DE4: 792570.9 | DF4: 794959.81 | DG4: 801751.15 | DH4: 767883.69 | DI4: 823351.34 | DJ4: 698482.5 | DK4: 693549.72 | DL4: 673156.37 | DM4: 636895.01 | DN4: 523006.97 | DO4: 591806.51 | DP4: 500871.91 | DQ4: 689799.57 | DR4: 676252 | DS4: 690439.73 | DT4: 673963.87 | DU4: 691532.74 | DV4: 626302.23 | DW4: 614734.04 | DX4: 554942.51 | DY4: 572932.39 | DZ4: 538157.75 | EA4: 506911.28 | EB4: 533284.92 | EC4: =SUM([1]価格推移グラフ!$EC$4) -> 582697.02 | ED4: 583894.58 | EE4: 583650.03 | EF4: 644210.05 | EG4: 653708.95 | EH4: 578299.39 | EI4: 595312.09 | EJ4: 538196.06 | EK4: 545557.38 | EL4: 519926.84 | EM4: 525224.56 | EN4: 548054.6 | EO4: 582837.8 | EP4: 588662.43 | EQ4: 665663.02 | ER4: 690299.61 | ES4: 726403.33 | ET4: 692879.94 | EU4: 696625.82 | EV4: 674625.05 | EW4: 693594.66 | EX4: 675069.94 | EY4: 700368.83 | EZ4: 739326.15 | FA4: 799324.39 | FB4: =SUM('１月'!G36) -> 812791.51 | FC4: =SUM('2月'!G34) -> 870353.66 | FD4: =SUM('3月'!G36) -> 888159.45 | FE4: =SUM('4月'!G35) -> 911676.26 | FF4: =SUM('5月'!G36) -> 905408.62 | FG4: =SUM('6月'!G35) -> 889900.29 | FH4: =SUM('7月'!G36) -> 871699.98 | FI4: =SUM('8月'!G36) -> 875015.59 | FJ4: =SUM('9月'!G35) -> 859410.57 | FK4: =SUM('10月'!G36) -> #DIV/0! | FL4: =SUM('11月'!G35) -> #DIV/0! | FM4: =SUM('12月'!G36) -> #DIV/0!
A5: 合計 | B5: 414706 | C5: 429271 | D5: 427893 | E5: 429067 | F5: 410224 | G5: 408108 | H5: 399803 | I5: 404086 | J5: 389869 | K5: 395827 | L5: 416502 | M5: 450821 | N5: 449138 | O5: 460704 | P5: 465286 | Q5: 477658 | R5: 481055 | S5: 491491 | T5: 483962 | U5: 494777 | V5: 498674 | W5: 516342 | X5: 531961 | Y5: 552785 | Z5: 535505 | AA5: 540905 | AB5: 547760 | AC5: 575079 | AD5: 578405 | AE5: 574611 | AF5: 550574 | AG5: 561446 | AH5: 547456 | AI5: 560728 | AJ5: 578767 | AK5: 594610 | AL5: 590294 | AM5: 628880 | AN5: 639817 | AO5: 647481 | AP5: 659165 | AQ5: 673961 | AR5: 656587 | AS5: 668334 | AT5: 661351 | AU5: 666796 | AV5: 690805 | AW5: 737316 | AX5: 750937.06 | AY5: 780738.24 | AZ5: 791409.39 | BA5: 837530.7 | BB5: 827418.85 | BC5: 824633.85 | BD5: 810251.9 | BE5: 846083.19 | BF5: 827967.53 | BG5: 838042.25 | BH5: 854901.32 | BI5: 887250.25 | BJ5: 860341.18 | BK5: 885115.76 | BL5: 843994.15 | BM5: 869172.09 | BN5: 850939.6 | BO5: 832276.71 | BP5: 793801.21 | BQ5: 775344.49 | BR5: 760277.88 | BS5: 760758.23 | BT5: 797677.81 | BU5: 835802.47 | BV5: 813160.05 | BW5: 821836.55 | BX5: 811301.44 | BY5: 831542.07 | BZ5: 804652.76 | CA5: 814592.53 | CB5: 782369.83 | CC5: 807964.91 | CD5: 769951.78 | CE5: 787406.21 | CF5: 815082 | CG5: 828029 | CH5: 773808.32 | CI5: 749714.06 | CJ5: 710835.44 | CK5: 684008.23 | CL5: 635964.71 | CM5: 691262.09 | CN5: 679582.22 | CO5: 682212.76 | CP5: 672909.53 | CQ5: 720771.56 | CR5: 771098.41 | CS5: 815293.65 | CT5: 785017 | CU5: 801774.88 | CV5: 804048.4 | CW5: 839100.96 | CX5: 775594.69 | CY5: 770901.31 | CZ5: 764154.07 | DA5: 736174.24 | DB5: 718102.01 | DC5: 723358.84 | DD5: 742555.06 | DE5: 738216.6 | DF5: 740215.7 | DG5: 734419.35 | DH5: 709520.78 | DI5: 744999.8 | DJ5: 655387.38 | DK5: 655825.93 | DL5: 629095.25 | DM5: 592991.13 | DN5: 480860.23 | DO5: 544549.48 | DP5: 461876.46 | DQ5: 635890.61 | DR5: 621767 | DS5: 620142.09 | DT5: 608928.04 | DU5: 622417.54 | DV5: 570880.81 | DW5: 558373.71 | DX5: 504491.22 | DY5: 517843.42 | DZ5: 485318.67 | EA5: 458147.11 | EB5: 480102.75 | EC5: =SUM([1]価格推移グラフ!$EC$5) -> 525570.38 | ED5: 529689.2 | EE5: 522667.06 | EF5: 578082.98 | EG5: 582804.2 | EH5: 516468.2 | EI5: 534963.81 | EJ5: 482998.21 | EK5: 488515.09 | EL5: 465978.83 | EM5: 472622.36 | EN5: 496461.57 | EO5: 526849.9 | EP5: 520160.76 | EQ5: 593092.41 | ER5: 626389.44 | ES5: 659020.53 | ET5: 634304.84 | EU5: 642903.72 | EV5: 623908.6 | EW5: 642130.87 | EX5: 630486.23 | EY5: 650081.69 | EZ5: 690673.69 | FA5: 748369.68 | FB5: =SUM('１月'!I36) -> 763053.93 | FC5: =SUM('2月'!I34) -> 813735.76 | FD5: =SUM('3月'!I36) -> 836400.39 | FE5: =SUM('4月'!I35) -> 857298.43 | FF5: =SUM('5月'!I36) -> 858761.87 | FG5: =SUM('6月'!I35) -> 834769.02 | FH5: =SUM('7月'!I36) -> 817823.06 | FI5: =SUM('8月'!I36) -> 819239.05 | FJ5: =SUM('9月'!I35) -> 806538.99 | FK5: =SUM('10月'!I36) -> #DIV/0! | FL5: =SUM('11月'!I35) -> #DIV/0! | FM5: =SUM('12月'!I36) -> #DIV/0!
A6: 肉用子牛生産者補給金制度 保証基準価格 | BV6: 341000 | BW6: 341000 | BX6: 341000 | BY6: 531000 | BZ6: 531000 | CA6: 531000 | CB6: 531000 | CC6: 531000 | CD6: 531000 | CE6: 531000 | CF6: 531000 | CG6: 531000 | CH6: 541000 | CI6: 541000 | CJ6: 541000 | CK6: 541000 | CL6: 541000 | CM6: 541000 | CN6: 541000 | CO6: 541000 | CP6: 541000 | CQ6: 541000 | CR6: 541000 | CS6: 541000 | CT6: 541000 | CU6: 541000 | CV6: 541000 | CW6: 541000 | CX6: 541000 | CY6: 541000 | CZ6: 541000 | DA6: 541000 | DB6: 541000 | DC6: 541000 | DD6: 541000 | DE6: 541000 | DF6: 541000 | DG6: 541000 | DH6: 541000 | DI6: 541000 | DJ6: 541000 | DK6: 541000 | DL6: 541000 | DM6: 541000 | DN6: 541000 | DO6: 541000 | DP6: 541000 | DQ6: 541000 | DR6: 541000 | DS6: 541000 | DT6: 541000 | DU6: 556000 | DV6: 556000 | DW6: 556000 | DX6: 556000 | DY6: 556000 | DZ6: 556000 | EA6: 556000 | EB6: 556000 | EC6: 556000 | ED6: 556000 | EE6: 556000 | EF6: 556000 | EG6: 564000 | EH6: 564000 | EI6: 564000 | EJ6: 564000 | EK6: 564000 | EL6: 564000 | EM6: 564000 | EN6: 564000 | EO6: 564000 | EP6: 564000 | EQ6: 564000 | ER6: 564000 | ES6: 574000 | ET6: 574000 | EU6: 574000 | EV6: 574000 | EW6: 574000 | EX6: 574000 | EY6: 574000 | EZ6: 574000 | FA6: 574000 | FB6: 574000 | FC6: 574000 | FD6: 574000 | FE6: 600000 | FF6: 600000 | FG6: 600000 | FH6: 600000 | FI6: 600000 | FJ6: 600000 | FK6: 600000 | FL6: 600000 | FM6: 600000
AC7: 平成26年4月より消費税率 8％となってます。
DP8: R4年平均 | DQ8: =AVERAGE(DF5:DQ5) -> 632136.01 | EB8: R5年平均 | EC8: =AVERAGE(DR5:EC5) -> 547831.89 | EN8: R6年平均 | EO8: =AVERAGE(ED5:EO5) -> 516508.45 | EZ8: R7年平均 | FA8: =AVERAGE(EP5:FA5) -> 638460.21
H9: 子牛売買価格の推移
A61: ※保証基準価格は全国にある指定市場で取引のあった指定肉用子牛の平均売買価格に対する基準価格であり、県内セリ結果とは直結しません。参考値として表示しております。
